BEGIN:VCALENDAR
VERSION:2.0
PRODID:-//ChamberMaster//Event Calendar 2.0//EN
METHOD:PUBLISH
X-PUBLISHED-TTL:P3D
REFRESH-INTERVAL:P3D
CALSCALE:GREGORIAN
BEGIN:VEVENT
DTSTART:20170315T164500Z
DTEND:20170315T180000Z
X-MICROSOFT-CDO-ALLDAYEVENT:FALSE
SUMMARY:2017 March Monthly Meeting - Sheriff Chris Elliott
DESCRIPTION:Come and hear Wagoner County Sheriff\, Chris Elliott.
X-ALT-DESC;FMTTYPE=text/html:Come and hear Wagoner County Sheriff\, Chris Elliott.
LOCATION:Coweta Assembly of God Church 29707 East State Highway 51 Coweta\, OK 74429
UID:e.1307.1974
SEQUENCE:3
DTSTAMP:20260425T183352Z
URL:https://business.cowetachamber.com/events/details/2017-march-monthly-meeting-sheriff-chris-elliott-1974
END:VEVENT

END:VCALENDAR
