BEGIN:VCALENDAR
VERSION:2.0
PRODID:-//ChamberMaster//Event Calendar 2.0//EN
METHOD:PUBLISH
X-PUBLISHED-TTL:P3D
REFRESH-INTERVAL:P3D
CALSCALE:GREGORIAN
BEGIN:VEVENT
DTSTART;VALUE=DATE:20170516
DTEND;VALUE=DATE:20170517
TRANSP:TRANSPARENT
X-MICROSOFT-CDO-ALLDAYEVENT:TRUE
SUMMARY:2017-Last Day for Coweta Public Schools
DESCRIPTION:Last day of school for Coweta Public Schools
X-ALT-DESC;FMTTYPE=text/html:Last day of school for Coweta Public Schools
LOCATION:Coweta Public Schools
UID:e.1307.2011
SEQUENCE:3
DTSTAMP:20260425T151959Z
URL:https://business.cowetachamber.com/events/details/2017-last-day-for-coweta-public-schools-2011
END:VEVENT

END:VCALENDAR
