BEGIN:VCALENDAR
VERSION:2.0
PRODID:-//ChamberMaster//Event Calendar 2.0//EN
METHOD:PUBLISH
X-PUBLISHED-TTL:P3D
REFRESH-INTERVAL:P3D
CALSCALE:GREGORIAN
BEGIN:VEVENT
DTSTART:20170719T164500Z
DTEND:20170719T180000Z
X-MICROSOFT-CDO-ALLDAYEVENT:FALSE
SUMMARY:2017 July Monthly Meeting - NO MEETING
DESCRIPTION:NO JULY MEETING
X-ALT-DESC;FMTTYPE=text/html:NO JULY MEETING
LOCATION:
UID:e.1307.1978
SEQUENCE:3
DTSTAMP:20260425T121944Z
URL:https://business.cowetachamber.com/events/details/2017-july-monthly-meeting-no-meeting-1978
END:VEVENT

END:VCALENDAR
