BEGIN:VCALENDAR
VERSION:2.0
PRODID:-//ChamberMaster//Event Calendar 2.0//EN
METHOD:PUBLISH
X-PUBLISHED-TTL:P3D
REFRESH-INTERVAL:P3D
CALSCALE:GREGORIAN
BEGIN:VEVENT
DTSTART;VALUE=DATE:20170704
DTEND;VALUE=DATE:20170705
TRANSP:TRANSPARENT
X-MICROSOFT-CDO-ALLDAYEVENT:TRUE
SUMMARY:2017 Independence Day - CLOSED
DESCRIPTION:Coweta Chamber of Commerce will be closed on Tuesday\, July 4th for Independence Day.
X-ALT-DESC;FMTTYPE=text/html:Coweta Chamber of Commerce will be closed on Tuesday\, July 4th for Independence Day. &nbsp\;
LOCATION:
UID:e.1307.2006
SEQUENCE:3
DTSTAMP:20260425T115432Z
URL:https://business.cowetachamber.com/events/details/2017-independence-day-closed-2006
END:VEVENT

END:VCALENDAR
