BEGIN:VCALENDAR
VERSION:2.0
PRODID:-//ChamberMaster//Event Calendar 2.0//EN
METHOD:PUBLISH
X-PUBLISHED-TTL:P3D
REFRESH-INTERVAL:P3D
CALSCALE:GREGORIAN
BEGIN:VEVENT
DTSTART:20170215T174500Z
DTEND:20170215T190000Z
X-MICROSOFT-CDO-ALLDAYEVENT:FALSE
SUMMARY:2017 February Monthly Meeting - State of the School Address
DESCRIPTION:Please join us for the Sate of the School Address with Superintendent\, Mr. Jeff Holmes.
X-ALT-DESC;FMTTYPE=text/html:Please join us for the Sate of the School Address with Superintendent\, Mr. Jeff Holmes.
LOCATION:Coweta Assembly of God Church 29707 East State Highway 51 Coweta\, OK 74429
UID:e.1307.1973
SEQUENCE:3
DTSTAMP:20260425T200110Z
URL:https://business.cowetachamber.com/events/details/2017-february-monthly-meeting-state-of-the-school-address-1973
END:VEVENT

END:VCALENDAR
