BEGIN:VCALENDAR
VERSION:2.0
PRODID:-//ChamberMaster//Event Calendar 2.0//EN
METHOD:PUBLISH
X-PUBLISHED-TTL:P3D
REFRESH-INTERVAL:P3D
CALSCALE:GREGORIAN
BEGIN:VEVENT
DTSTART;VALUE=DATE:20170817
DTEND;VALUE=DATE:20170818
TRANSP:TRANSPARENT
X-MICROSOFT-CDO-ALLDAYEVENT:TRUE
SUMMARY:2017 Coweta Public School - First day of school
DESCRIPTION:1st day of school for Coweta Public Schools
X-ALT-DESC;FMTTYPE=text/html:1st day of school for Coweta&nbsp\;Public Schools
LOCATION:All Coweta Public Schools
UID:e.1307.2010
SEQUENCE:3
DTSTAMP:20260425T103841Z
URL:https://business.cowetachamber.com/events/details/2017-coweta-public-school-first-day-of-school-2010
END:VEVENT

END:VCALENDAR
