BEGIN:VCALENDAR
VERSION:2.0
PRODID:-//ChamberMaster//Event Calendar 2.0//EN
METHOD:PUBLISH
X-PUBLISHED-TTL:P3D
REFRESH-INTERVAL:P3D
CALSCALE:GREGORIAN
BEGIN:VEVENT
DTSTART:20170708T130000Z
DTEND:20170708T170000Z
X-MICROSOFT-CDO-ALLDAYEVENT:FALSE
SUMMARY:2017 Coweta 2nd Saturday Cruise
DESCRIPTION:Join us for the Coweta 2nd Saturday Cruise in downtown Coweta. Open to Hotrods\, Customs\, Classics\, Origianls\, modified\, Cars\, Trucks\, Bikes. If you can ride it or drive it\, bring it! There will be Prizes and Giveaways
X-ALT-DESC;FMTTYPE=text/html:Join us for the Coweta 2nd Saturday Cruise in downtown Coweta. Open to Hotrods\, Customs\, Classics\, Origianls\, modified\, Cars\, Trucks\, Bikes. If you can ride it or drive it\, bring it! There will be Prizes and Giveaways&nbsp\;&nbsp\;&nbsp\;&nbsp\;
LOCATION:Downtown Coweta Broadway Street
UID:e.1307.2017
SEQUENCE:3
DTSTAMP:20260425T120739Z
URL:https://business.cowetachamber.com/events/details/2017-coweta-2nd-saturday-cruise-2017
END:VEVENT

END:VCALENDAR
