BEGIN:VCALENDAR
VERSION:2.0
PRODID:-//ChamberMaster//Event Calendar 2.0//EN
METHOD:PUBLISH
X-PUBLISHED-TTL:P3D
REFRESH-INTERVAL:P3D
CALSCALE:GREGORIAN
BEGIN:VEVENT
DTSTART:20170419T164500Z
DTEND:20170419T180000Z
X-MICROSOFT-CDO-ALLDAYEVENT:FALSE
SUMMARY:2017 April Monthly Meeting - CANCELLED
DESCRIPTION:TBA
X-ALT-DESC;FMTTYPE=text/html:TBA
LOCATION:Coweta Assembly of God Church 29707 East State Highway 51 Coweta\, OK 74429
UID:e.1307.1975
SEQUENCE:3
DTSTAMP:20260425T165146Z
URL:https://business.cowetachamber.com/events/details/2017-april-monthly-meeting-cancelled-1975
END:VEVENT

END:VCALENDAR
