BEGIN:VCALENDAR
VERSION:2.0
PRODID:-//ChamberMaster//Event Calendar 2.0//EN
METHOD:PUBLISH
X-PUBLISHED-TTL:P3D
REFRESH-INTERVAL:P3D
CALSCALE:GREGORIAN
BEGIN:VEVENT
DTSTART:20170721T230000Z
DTEND:20170722T030000Z
X-MICROSOFT-CDO-ALLDAYEVENT:FALSE
SUMMARY:2017 Annual Awards Banquet Auction
DESCRIPTION:
X-ALT-DESC;FMTTYPE=text/html:
LOCATION:
UID:e.1307.2053
SEQUENCE:3
DTSTAMP:20260425T133924Z
URL:https://business.cowetachamber.com/events/details/2017-annual-awards-banquet-auction-2053
END:VEVENT

END:VCALENDAR
