BEGIN:VCALENDAR
VERSION:2.0
PRODID:-//ChamberMaster//Event Calendar 2.0//EN
METHOD:PUBLISH
X-PUBLISHED-TTL:P3D
REFRESH-INTERVAL:P3D
CALSCALE:GREGORIAN
BEGIN:VEVENT
DTSTART:20170602T133000Z
DTEND:20170602T213000Z
X-MICROSOFT-CDO-ALLDAYEVENT:FALSE
SUMMARY:2017 25th Annual Coweta Chamber of Commerce Golf Tournament
DESCRIPTION:The 2017 25th Annual Coweta Chamber of Commerce Golf Tournament\n\n4 man teams\, Scramble Format.\n\nRegistration begins at 8:30 am\n\nTee Off is at 9am
X-ALT-DESC;FMTTYPE=text/html:The 2017 25th Annual Coweta Chamber of Commerce Golf Tournament<br />\n4 man teams\, Scramble Format.<br />\nRegistration begins at 8:30 am<br />\nTee Off is at 9am<br />\n<br />\n<br />\n&nbsp\;
LOCATION:The Woods Golf Club 11872 S. 274th E. Ave. Coweta\, OK 74429
UID:e.1307.1963
SEQUENCE:3
DTSTAMP:20260425T134233Z
URL:https://business.cowetachamber.com/events/details/2017-25th-annual-coweta-chamber-of-commerce-golf-tournament-1963
END:VEVENT

END:VCALENDAR
