BEGIN:VCALENDAR
VERSION:2.0
PRODID:-//ChamberMaster//Event Calendar 2.0//EN
METHOD:PUBLISH
X-PUBLISHED-TTL:P3D
REFRESH-INTERVAL:P3D
CALSCALE:GREGORIAN
BEGIN:VEVENT
DTSTART:20161203T140000Z
DTEND:20161203T160000Z
X-MICROSOFT-CDO-ALLDAYEVENT:FALSE
SUMMARY:2016 Southside Elementary Breakfast with Santa
DESCRIPTION:The Coweta Masonic Lodge will partner with Southside Elementary to host the 10th annual Breakfast with Santa. The community is welcome to attend this pancake breakfast and silent auction. Each teacher has put together a themed basket for the auction and the proceeds from each basket goes directly back to that classroom.
X-ALT-DESC;FMTTYPE=text/html:<div style="margin: 0px\; padding: 0px\; font-family: Tahoma\, Geneva\, sans-serif\; font-size: 12.09px\; background-color: rgb(255\, 255\, 255)\;"><span style="font-size:14px\;"><span style="font-family:arial\;">The Coweta Masonic Lodge will partner with Southside Elementary to host the 10th annual Breakfast with Santa.&nbsp\;The community is welcome to attend this pancake breakfast and silent auction.&nbsp\;Each teacher has put together a themed basket for the auction and the proceeds from each basket goes directly back to that classroom. &nbsp\;</span></span></div>\n\n<div style="margin: 0px\; padding: 0px\; font-family: Tahoma\, Geneva\, sans-serif\; font-size: 12.09px\; background-color: rgb(255\, 255\, 255)\;">&nbsp\;</div>\n
LOCATION:Southside Elementary 15289 OK-72 Coweta\, OK 74429
UID:e.1307.1967
SEQUENCE:3
DTSTAMP:20260425T230101Z
URL:https://business.cowetachamber.com/events/details/2016-southside-elementary-breakfast-with-santa-1967
END:VEVENT

END:VCALENDAR
