BEGIN:VCALENDAR
VERSION:2.0
PRODID:-//ChamberMaster//Event Calendar 2.0//EN
METHOD:PUBLISH
X-PUBLISHED-TTL:P3D
REFRESH-INTERVAL:P3D
CALSCALE:GREGORIAN
BEGIN:VEVENT
DTSTART:20160910T130000Z
DTEND:20160910T180000Z
X-MICROSOFT-CDO-ALLDAYEVENT:FALSE
SUMMARY:2016 Second Saturday Street Market
DESCRIPTION:To serve as a community gathering place where local farmers\, producers\, artisans and residents can offer fresh agricultural produce and other products and goods to a marketplace\, and generate a sense of community and local pride in Coweta.
X-ALT-DESC;FMTTYPE=text/html:To serve as a community gathering place where local farmers\, producers\, artisans and residents can offer fresh agricultural produce and other products and goods to a marketplace\, and generate a sense of community and local pride in Coweta.
LOCATION:On Sycamore Street\, between Broadway and Bristow Streets Coweta\, OK
UID:e.1307.1896
SEQUENCE:3
DTSTAMP:20260426T032939Z
URL:https://business.cowetachamber.com/events/details/2016-second-saturday-street-market-09-10-2016-1896
END:VEVENT

END:VCALENDAR
