BEGIN:VCALENDAR
VERSION:2.0
PRODID:-//ChamberMaster//Event Calendar 2.0//EN
METHOD:PUBLISH
X-PUBLISHED-TTL:P3D
REFRESH-INTERVAL:P3D
CALSCALE:GREGORIAN
BEGIN:VEVENT
DTSTART:20161012T153000Z
DTEND:20161012T160000Z
X-MICROSOFT-CDO-ALLDAYEVENT:FALSE
SUMMARY:2016 Ribbon Cutting - The New Green Parrot LLC
DESCRIPTION:Join us at the New Green Parrot\, LLC for their Ribbon Cutting.
X-ALT-DESC;FMTTYPE=text/html:Join us at the New Green Parrot\, LLC for their Ribbon Cutting.&nbsp\;
LOCATION:The New Green Parrot LLC 111 N Broadway Coweta\, OK 74429
UID:e.1307.1953
SEQUENCE:3
DTSTAMP:20260426T020547Z
URL:https://business.cowetachamber.com/events/details/2016-ribbon-cutting-the-new-green-parrot-llc-1953
END:VEVENT

END:VCALENDAR
