BEGIN:VCALENDAR
VERSION:2.0
PRODID:-//ChamberMaster//Event Calendar 2.0//EN
METHOD:PUBLISH
X-PUBLISHED-TTL:P3D
REFRESH-INTERVAL:P3D
CALSCALE:GREGORIAN
BEGIN:VEVENT
DTSTART:20161104T210000Z
DTEND:20161104T213000Z
X-MICROSOFT-CDO-ALLDAYEVENT:FALSE
SUMMARY:2016 Ribbon Cutting - Frontier House Gallery and Gifts
DESCRIPTION:Join us at the Frontier House Gallery and Gifts for their Ribbon Cutting.
X-ALT-DESC;FMTTYPE=text/html:Join us at the Frontier House Gallery and Gifts for their Ribbon Cutting.&nbsp\;
LOCATION:Frontier House Gallery and Gifts 402 N Broadway Coweta\, OK 74429
UID:e.1307.1961
SEQUENCE:3
DTSTAMP:20260426T004106Z
URL:https://business.cowetachamber.com/events/details/2016-ribbon-cutting-frontier-house-gallery-and-gifts-1961
END:VEVENT

END:VCALENDAR
