BEGIN:VCALENDAR
VERSION:2.0
PRODID:-//ChamberMaster//Event Calendar 2.0//EN
METHOD:PUBLISH
X-PUBLISHED-TTL:P3D
REFRESH-INTERVAL:P3D
CALSCALE:GREGORIAN
BEGIN:VEVENT
DTSTART:20161019T170000Z
DTEND:20161019T180000Z
X-MICROSOFT-CDO-ALLDAYEVENT:FALSE
SUMMARY:2016 October Monthly Meeting - "Training to Help You Do Business (Yes\, We Can Do That)" - Indian Capital Technology Center
DESCRIPTION:Join us as Indian Capital Technology Center covers "Training to Help You Do Business (Yes\, We Can Do That)." They will provide an overview of the types of customized training they offer businesses from human resources management\, customer service\, and computer training to safety and health and industrial and facilities maintenance and other technical training.
X-ALT-DESC;FMTTYPE=text/html:<span style="font-size:14px\;"><span style="font-family:tahoma\;"><span style="line-height: 14.8828px\; background-color: rgb(255\, 255\, 255)\;">Join us as Indian Capital Technology Center covers &quot\;Training to Help You Do Business (Yes\, We Can Do That).&quot\; They will&nbsp\;provide an overview of the types of customized training they offer businesses from human resources management\, customer service\, and computer training to safety and health and industrial and facilities maintenance and other technical training.</span></span></span>
LOCATION:Coweta Assembly of God Church 29707 East State Highway 51 Coweta\, OK 74429
UID:e.1307.1908
SEQUENCE:3
DTSTAMP:20260426T020742Z
URL:https://business.cowetachamber.com/events/details/2016-october-monthly-meeting-training-to-help-you-do-business-yes-we-can-do-that-indian-capital-technology-center-10-19-2016-1908
END:VEVENT

END:VCALENDAR
