BEGIN:VCALENDAR
VERSION:2.0
PRODID:-//ChamberMaster//Event Calendar 2.0//EN
METHOD:PUBLISH
X-PUBLISHED-TTL:P3D
REFRESH-INTERVAL:P3D
CALSCALE:GREGORIAN
BEGIN:VEVENT
DTSTART:20161116T180000Z
DTEND:20161116T190000Z
X-MICROSOFT-CDO-ALLDAYEVENT:FALSE
SUMMARY:2016 November Monthly Meeting - Northeastern State University "The State of Education in Oklahoma and our Future Education in Oklahoma"
DESCRIPTION:Please join us as NSU President\, Dr. Turner will address the state of education in Oklahoma as well as the future of education in Oklahoma. The President of AT&T\, Steve Hahn will also be joining us.
X-ALT-DESC;FMTTYPE=text/html:Please join us as NSU President\, Dr. Turner will address the state of education in Oklahoma as well as the future of education in Oklahoma. The President of AT&amp\;T\, Steve Hahn will also be joining us.&nbsp\;
LOCATION:Coweta Assembly of God Church 29707 East State Highway 51 Coweta\, OK 74429
UID:e.1307.1909
SEQUENCE:3
DTSTAMP:20260426T004249Z
URL:https://business.cowetachamber.com/events/details/2016-november-monthly-meeting-northeastern-state-university-the-state-of-education-in-oklahoma-and-our-future-education-in-oklahoma-1909
END:VEVENT

END:VCALENDAR
