BEGIN:VCALENDAR
VERSION:2.0
PRODID:-//ChamberMaster//Event Calendar 2.0//EN
METHOD:PUBLISH
X-PUBLISHED-TTL:P3D
REFRESH-INTERVAL:P3D
CALSCALE:GREGORIAN
BEGIN:VEVENT
DTSTART:20160930T230000Z
DTEND:20161001T030000Z
X-MICROSOFT-CDO-ALLDAYEVENT:FALSE
SUMMARY:2016 Movies Under the Stars - Zootopia
DESCRIPTION:"Movies Under The Stars" has come back to Coweta and will be held once a month through September. The movie will be shown the last Friday of each month (June thru September). \n\nFamilies are invited to bring their lawn chairs\, blankets and snacks and come to the park around 8:00 p.m. \n\nThis is a free\, fun event for the entire family. Remember no alcoholic beverages are allowed.
X-ALT-DESC;FMTTYPE=text/html:<p style="background: white\;"><span style="font-family: arial\;"><span style="font-size: 10.5pt\;">&quot\;Movies Under The Stars&quot\; has come back to Coweta and will be held once a month through September. The movie will&nbsp\;be shown the last Friday of each month (June thru September).&nbsp\;</span></span></p>\n\n<p style="background: white\;"><span style="font-family: arial\;"><span style="font-size: 10.5pt\;">Families are invited to bring their lawn chairs\, blankets and snacks and come to the park around 8:00 p.m.&nbsp\;</span></span></p>\n\n<p style="background: white\;"><span style="font-family: arial\;"><span style="font-size: 10.5pt\;">This is a free\, fun event for the entire family. Remember no alcoholic beverages are allowed.</span></span></p>\n
LOCATION:Green Space across from Mission Bell Museum. The corner of Cypress and Bristow In the event of rain\, the movie will be shown indoors at the First United Methodist Church at 206 West Sycamore.
UID:e.1307.1901
SEQUENCE:3
DTSTAMP:20260426T033341Z
URL:https://business.cowetachamber.com/events/details/2016-movies-under-the-stars-zootopia-1901
END:VEVENT

END:VCALENDAR
