BEGIN:VCALENDAR
VERSION:2.0
PRODID:-//ChamberMaster//Event Calendar 2.0//EN
METHOD:PUBLISH
X-PUBLISHED-TTL:P3D
REFRESH-INTERVAL:P3D
CALSCALE:GREGORIAN
BEGIN:VEVENT
DTSTART:20161204T000000Z
DTEND:20161204T010000Z
X-MICROSOFT-CDO-ALLDAYEVENT:FALSE
SUMMARY:2016 Coweta Christmas Parade Presented by Coweta Chamber of Commerce and Coweta Rotary
DESCRIPTION:"A North Pole Christmas" is the theme of this year's Coweta Christmas Parade Saturday\, Dec. 3.  First National Bank will be serving refreshments during the parade.\n\nThe parade will start at 6:00p.  Businesses\, organizations\, churches and all groups are encouraged to participate. \n\nJudging will be based on staying within the parade theme\, uniqueness and overall appearance of entry.\n\nApplication deadline is 5p Wednesday\, December 1.  No late entries will be accepted.
X-ALT-DESC;FMTTYPE=text/html:<span style="font-size: 14px\;">&quot\;A North Pole Christmas&quot\;&nbsp\;is the theme of this year&rsquo\;s Coweta Christmas Parade&nbsp\;Saturday\, Dec. 3.&nbsp\; First National Bank will be serving refreshments during the parade.</span><br />\n<span style="font-size: 14px\;">The parade will start at 6:00p.&nbsp\; Businesses\, organizations\, churches and all groups are encouraged to participate.&nbsp\;<br />\nJudging will be based on staying within the parade theme\, uniqueness and overall appearance of entry.</span><br />\n<span style="font-size: 14px\;">Application deadline is 5p Wednesday\, December 1.&nbsp\; No late entries will be accepted.</span>
LOCATION:Downtown Coweta on Broadway
UID:e.1307.1955
SEQUENCE:3
DTSTAMP:20260425T230740Z
URL:https://business.cowetachamber.com/events/details/2016-coweta-christmas-parade-presented-by-coweta-chamber-of-commerce-and-coweta-rotary-1955
END:VEVENT

END:VCALENDAR
