BEGIN:VCALENDAR
VERSION:2.0
PRODID:-//ChamberMaster//Event Calendar 2.0//EN
METHOD:PUBLISH
X-PUBLISHED-TTL:P3D
REFRESH-INTERVAL:P3D
CALSCALE:GREGORIAN
BEGIN:VEVENT
DTSTART:20160917T130000Z
DTEND:20160917T200000Z
X-MICROSOFT-CDO-ALLDAYEVENT:FALSE
SUMMARY:2016 - 6th Annual Disabled American Veterans Benefit Car/Truck/Jeep/Bike Show
DESCRIPTION:"6th Annual"\n\nDisabled American Veterans\n\nBenefit Car/Truck/Jeep/Bike Show
X-ALT-DESC;FMTTYPE=text/html:&quot\;6th Annual&quot\;<br />\nDisabled American Veterans<br />\nBenefit Car/Truck/Jeep/Bike Show
LOCATION:South of the DAV Building 216 S. Broadway (set up between Pecan and 151st St S)
UID:e.1307.1939
SEQUENCE:3
DTSTAMP:20260426T033341Z
URL:https://business.cowetachamber.com/events/details/2016-6th-annual-disabled-american-veterans-benefit-car-truck-jeep-bike-show-09-17-2016-1939
END:VEVENT

END:VCALENDAR
