BEGIN:VCALENDAR
VERSION:2.0
PRODID:-//ChamberMaster//Event Calendar 2.0//EN
METHOD:PUBLISH
X-PUBLISHED-TTL:P3D
REFRESH-INTERVAL:P3D
CALSCALE:GREGORIAN
BEGIN:VEVENT
DTSTART;VALUE=DATE:20161124
DTEND;VALUE=DATE:20161126
TRANSP:TRANSPARENT
X-MICROSOFT-CDO-ALLDAYEVENT:TRUE
SUMMARY:2015 Thanksgiving - CLOSED
DESCRIPTION:Coweta Chamber of Commerce will be closed for Thanksgiving.
X-ALT-DESC;FMTTYPE=text/html:Coweta Chamber of Commerce will be closed for Thanksgiving.
LOCATION:
UID:e.1307.1959
SEQUENCE:3
DTSTAMP:20260426T003933Z
URL:https://business.cowetachamber.com/events/details/2015-thanksgiving-closed-1959
END:VEVENT

END:VCALENDAR
