BEGIN:VCALENDAR
VERSION:2.0
PRODID:-//ChamberMaster//Event Calendar 2.0//EN
METHOD:PUBLISH
X-PUBLISHED-TTL:P3D
REFRESH-INTERVAL:P3D
CALSCALE:GREGORIAN
BEGIN:VEVENT
DTSTART:20141119T153000Z
DTEND:20141119T180000Z
X-MICROSOFT-CDO-ALLDAYEVENT:FALSE
SUMMARY:2014 The UPS Store Ribbon Cutting
DESCRIPTION:Please join us for The UPS Store Ribbon cutting at 9:30a. The UPS Store is located at 14083 S Hwy 51\, the corner of HWY 51 & 141st.\n\nFirst 50 customers into the store will receive a $15 Wal-Mart Gift Card. You can also register for door prizes that will be given away all day. The Grand Prize is a 39" Flat Screen Television. You do not have to be present to win.\n\nLunch will be served at noon and will be at no cost with a short demonstration of how the UPS Store can transform your business.\n\nThere is limited parking at The UPS Store. Overflow parking is at the Walgreens in the south lot as well as Roys Chicken.
X-ALT-DESC;FMTTYPE=text/html:<div style="color: gray\;"><span style="color: rgb(0\, 0\, 0)\;"><span style="font-size: 14px\;"><span style="font-family: tahoma\;">Please join us for The UPS Store Ribbon cutting at 9:30a. The UPS Store is located </span></span></span><span style="color: rgb(0\, 0\, 0)\;"><span style="font-size: 14px\;"><span style="font-family: tahoma\;">at </span>14083 S Hwy 51\,<span style="font-family: tahoma\;"> the corner of HWY 51 &amp\; 141st.<br />\nFirst 50 customers into the store will receive a $15 Wal-Mart Gift Card. You can also register for door prizes that will be given away all day. The Grand Prize is a 39&quot\; Flat Screen Television. You do not have to be present to win.</span></span><br />\n<span style="font-size: 14px\;">Lunch will be served at noon and will be at no cost with a short demonstration of how the UPS Store can transform your business.<br />\nThere is limited parking at The UPS Store. Overflow parking is at the Walgreens in the south lot as well as Roys Chicken.</span></span></div>\n
LOCATION:Corner of Hwy 51 & 141st St Coweta\, OK
UID:e.1307.851
SEQUENCE:3
DTSTAMP:20260422T183316Z
URL:https://business.cowetachamber.com/events/details/2014-the-ups-store-ribbon-cutting-11-19-2014-851
END:VEVENT

END:VCALENDAR
