BEGIN:VCALENDAR
VERSION:2.0
PRODID:-//ChamberMaster//Event Calendar 2.0//EN
METHOD:PUBLISH
X-PUBLISHED-TTL:P3D
REFRESH-INTERVAL:P3D
CALSCALE:GREGORIAN
BEGIN:VEVENT
DTSTART:20140917T140000Z
DTEND:20140917T153000Z
X-MICROSOFT-CDO-ALLDAYEVENT:FALSE
SUMMARY:2014 September Food Handlers Class - Wagoner
DESCRIPTION:Food Handlers Class\n\nWagoner County Health Department\n\nNo registration
X-ALT-DESC;FMTTYPE=text/html:Food Handlers Class<br />\nWagoner County Health Department<br />\nNo registration<br />\n<br />\n&nbsp\;
LOCATION:Wagoner Health Department 212 North Pierce Wagoner\, OK 74467
UID:e.1307.633
SEQUENCE:3
DTSTAMP:20260424T083833Z
URL:https://business.cowetachamber.com/events/details/2014-september-food-handlers-class-wagoner-09-17-2014-633
END:VEVENT

END:VCALENDAR
