BEGIN:VCALENDAR
VERSION:2.0
PRODID:-//ChamberMaster//Event Calendar 2.0//EN
METHOD:PUBLISH
X-PUBLISHED-TTL:P3D
REFRESH-INTERVAL:P3D
CALSCALE:GREGORIAN
BEGIN:VEVENT
DTSTART:20141015T161500Z
DTEND:20141015T180000Z
X-MICROSOFT-CDO-ALLDAYEVENT:FALSE
SUMMARY:2014 October Monthly Meeting - Candidate Forum for Elections
DESCRIPTION:Candidate Forum for 2014 Elections\nConfirmed Candidates\n\n \n\nOffice of Lt. Gov.\n\nMs. Cathy Cummings\n\n \n\nOK Senate District 18\n\nMr. Charles Arnall\n\nSen Kim David\n\n \n\nOK House District 12\n\nRep Wade Rousselot\n\nMr. David Tackett\n\n \n\nOK US Senate\n\nMs. Joan Farr\n\n \n\nDistrict Judge District 15\n\nThomas Alford\n\nJames Walters
X-ALT-DESC;FMTTYPE=text/html:Candidate Forum for 2014 Elections\n<p style="margin: 0in 0in 0pt\;"><font color="#000000" face="Calibri" size="3">Confirmed Candidates</font></p>\n\n<p style="margin: 0in 0in 0pt\;"><font color="#000000" face="Calibri" size="3">&nbsp\;</font></p>\n\n<p style="margin: 0in 0in 0pt\;"><u><font color="#000000" face="Calibri" size="3">Office of Lt. Gov.</font></u></p>\n\n<p style="margin: 0in 0in 0pt\;"><font color="#000000" face="Calibri" size="3">Ms. Cathy Cummings</font></p>\n\n<p style="margin: 0in 0in 0pt\;"><font color="#000000" face="Calibri" size="3">&nbsp\;</font></p>\n\n<p style="margin: 0in 0in 0pt\;"><u><font color="#000000" face="Calibri" size="3">OK Senate District 18</font></u></p>\n\n<p style="margin: 0in 0in 0pt\;"><font color="#000000" face="Calibri" size="3">Mr. Charles Arnall</font></p>\n\n<p style="margin: 0in 0in 0pt\;"><font color="#000000" face="Calibri" size="3">Sen Kim David</font></p>\n\n<p style="margin: 0in 0in 0pt\;"><font color="#000000" face="Calibri" size="3">&nbsp\;</font></p>\n\n<p style="margin: 0in 0in 0pt\;"><u><font color="#000000" face="Calibri" size="3">OK House District 12</font></u></p>\n\n<p style="margin: 0in 0in 0pt\;"><font color="#000000" face="Calibri" size="3">Rep Wade Rousselot</font></p>\n\n<p style="margin: 0in 0in 0pt\;"><font color="#000000" face="Calibri" size="3">Mr. David Tackett</font></p>\n\n<p style="margin: 0in 0in 0pt\;"><u><span style="text-decoration: none\;"><font color="#000000" face="Calibri" size="3">&nbsp\;</font></span></u></p>\n\n<p style="margin: 0in 0in 0pt\;"><u><font color="#000000" face="Calibri" size="3">OK US Senate</font></u></p>\n\n<p style="margin: 0in 0in 0pt\;"><font color="#000000" face="Calibri" size="3">Ms. Joan Farr</font></p>\n\n<p style="margin: 0in 0in 0pt\;"><font color="#000000" face="Calibri" size="3">&nbsp\;</font></p>\n\n<p style="margin: 0in 0in 0pt\;"><u><font color="#000000" face="Calibri" size="3">District Judge District 15</font></u></p>\n\n<p style="margin: 0in 0in 0pt\;"><font color="#000000" face="Calibri" size="3">Thomas Alford</font></p>\n\n<p style="margin: 0in 0in 0pt\;"><font color="#000000" face="Calibri" size="3">James Walters</font></p>\n\n<p style="margin: 0in 0in 0pt\;"><font color="#000000" face="Calibri" size="3">&nbsp\;</font></p>\n
LOCATION:The Broadmore - event center in downtown Coweta (The building says bank\, directly north of First National Bank and next to American Hatfield) 102 N. Broadway Coweta\, OK 74429
UID:e.1307.612
SEQUENCE:3
DTSTAMP:20260422T195705Z
URL:https://business.cowetachamber.com/events/details/2014-october-monthly-meeting-candidate-forum-for-elections-10-15-2014-612
END:VEVENT

END:VCALENDAR
