BEGIN:VCALENDAR
VERSION:2.0
PRODID:-//ChamberMaster//Event Calendar 2.0//EN
METHOD:PUBLISH
X-PUBLISHED-TTL:P3D
REFRESH-INTERVAL:P3D
CALSCALE:GREGORIAN
BEGIN:VEVENT
DTSTART:20140516T000000Z
DTEND:20140516T010000Z
X-MICROSOFT-CDO-ALLDAYEVENT:FALSE
SUMMARY:2014 Music in the Park
DESCRIPTION:Music in the Park is a collaborative effort between the City of Coweta and the Coweta Chamber of Commerce.  We want to provide enjoyable musical entertainment to residents and visitors while utilizing the City's green space and increasing awareness of businesses in downtown Coweta.  We hope you enjoy this year's schedule!\n\n\n\nArrive Early & Eat Downtown!
X-ALT-DESC;FMTTYPE=text/html:Music in the Park is a collaborative effort between the City of Coweta and the Coweta Chamber of Commerce.&nbsp\; We want to provide enjoyable musical entertainment to residents and visitors while utilizing the City&#39\;s green space and&nbsp\;increasing awareness of businesses in downtown Coweta.&nbsp\; We hope you enjoy this year&#39\;s schedule!<br />\n<br />\nArrive Early &amp\; Eat Downtown!
LOCATION:Jimmy Lee Campbell Park 119 East Cypress Downtown Coweta
UID:e.1307.691
SEQUENCE:3
DTSTAMP:20260424T125928Z
URL:https://business.cowetachamber.com/events/details/2014-music-in-the-park-05-15-2014-691
END:VEVENT

END:VCALENDAR
