BEGIN:VCALENDAR
VERSION:2.0
PRODID:-//ChamberMaster//Event Calendar 2.0//EN
METHOD:PUBLISH
X-PUBLISHED-TTL:P3D
REFRESH-INTERVAL:P3D
CALSCALE:GREGORIAN
BEGIN:VEVENT
DTSTART:20140417T150000Z
DTEND:20140417T170000Z
X-MICROSOFT-CDO-ALLDAYEVENT:FALSE
SUMMARY:2014 How to Develop and Maintain a Successful Volunteer Program
DESCRIPTION:Northeast Oklahoma Regional Alliance (NORA) presents its newest workshop\, "How to Develop and Maintain a Successful Volunteer Program".
X-ALT-DESC;FMTTYPE=text/html:Northeast Oklahoma Regional Alliance (NORA) presents its newest workshop\, &quot\;How to Develop and Maintain a Successful Volunteer Program&quot\;.
LOCATION:NSU Broken Arrow Campus at the Annex in the Administrative Services Building Broken Arrow\, OK
UID:e.1307.646
SEQUENCE:3
DTSTAMP:20260423T194117Z
URL:https://business.cowetachamber.com/events/details/2014-how-to-develop-and-maintain-a-successful-volunteer-program-04-17-2014-646
END:VEVENT

END:VCALENDAR
