BEGIN:VCALENDAR
VERSION:2.0
PRODID:-//ChamberMaster//Event Calendar 2.0//EN
METHOD:PUBLISH
X-PUBLISHED-TTL:P3D
REFRESH-INTERVAL:P3D
CALSCALE:GREGORIAN
BEGIN:VEVENT
DTSTART:20141120T200000Z
DTEND:20141120T203000Z
X-MICROSOFT-CDO-ALLDAYEVENT:FALSE
SUMMARY:2014 American Hatfield Ribbon Cutting
DESCRIPTION:Please join us in welcoming American Hatfield as our newest member of Coweta Chamber of Commerce.  American Hatfield is a great little shop downtown Coweta that sells folk-art\, antiques and home decor.  Stop by today and welcome Kyle and American Hatfield.
X-ALT-DESC;FMTTYPE=text/html:Please join us in welcoming American Hatfield as our newest member of Coweta Chamber of Commerce.&nbsp\; American Hatfield is a great little shop downtown Coweta that sells folk-art\, antiques and home decor.&nbsp\; Stop by today and welcome Kyle and American Hatfield.<br />\n&nbsp\;
LOCATION:106 N Broadway Coweta\, OK 74429
UID:e.1307.850
SEQUENCE:3
DTSTAMP:20260422T183256Z
URL:https://business.cowetachamber.com/events/details/2014-american-hatfield-ribbon-cutting-11-20-2014-850
END:VEVENT

END:VCALENDAR
