BEGIN:VCALENDAR
VERSION:2.0
PRODID:-//ChamberMaster//Event Calendar 2.0//EN
METHOD:PUBLISH
X-PUBLISHED-TTL:P3D
REFRESH-INTERVAL:P3D
CALSCALE:GREGORIAN
BEGIN:VEVENT
DTSTART:20130822T233000Z
DTEND:20130823T010000Z
X-MICROSOFT-CDO-ALLDAYEVENT:FALSE
SUMMARY:2013 What to do for Seizures
DESCRIPTION:The Coweta Chamber of Commerce is partnering with Air Evac to provide four health seminars for businesses and residents.\n\n\n\nThe third seminar will cover What to do for Seizures.
X-ALT-DESC;FMTTYPE=text/html:The Coweta Chamber of Commerce is partnering with Air Evac to provide four health seminars for businesses and residents.<br />\n<br />\nThe third seminar will cover What to do for Seizures.
LOCATION:Coweta Chamber of Commerce office 117 West Cypress Street Coweta\, OK
UID:e.1307.109
SEQUENCE:3
DTSTAMP:20260425T031544Z
URL:https://business.cowetachamber.com/events/details/2013-what-to-do-for-seizures-08-22-2013-109
END:VEVENT

END:VCALENDAR
