BEGIN:VCALENDAR
VERSION:2.0
PRODID:-//ChamberMaster//Event Calendar 2.0//EN
METHOD:PUBLISH
X-PUBLISHED-TTL:P3D
REFRESH-INTERVAL:P3D
CALSCALE:GREGORIAN
BEGIN:VEVENT
DTSTART:20131031T230000Z
DTEND:20131101T010000Z
X-MICROSOFT-CDO-ALLDAYEVENT:FALSE
SUMMARY:2013 Trunk or Treat
DESCRIPTION:Cedar Ridge Christian Church - Trunk or Treat\n\nNon-scary costumes are preferred
X-ALT-DESC;FMTTYPE=text/html:Cedar Ridge Christian Church - Trunk or Treat<br />\n<em><u>Non-scary costumes are preferred</u></em>
LOCATION:Cedar Ridge Christian Church - Coweta Campus 14085 S 296th East Ave Coweta\, OK
UID:e.1307.379
SEQUENCE:3
DTSTAMP:20260424T235729Z
URL:https://business.cowetachamber.com/events/details/2013-trunk-or-treat-10-31-2013-379
END:VEVENT

END:VCALENDAR
