BEGIN:VCALENDAR
VERSION:2.0
PRODID:-//ChamberMaster//Event Calendar 2.0//EN
METHOD:PUBLISH
X-PUBLISHED-TTL:P3D
REFRESH-INTERVAL:P3D
CALSCALE:GREGORIAN
BEGIN:VEVENT
DTSTART:20131030T233000Z
DTEND:20131030T233000Z
X-MICROSOFT-CDO-ALLDAYEVENT:FALSE
SUMMARY:2013 Trunk or Treat
DESCRIPTION:New Bethel Assembly of God Trunk or Treat
X-ALT-DESC;FMTTYPE=text/html:New Bethel Assembly of God Trunk or Treat&nbsp\;&nbsp\;&nbsp\;&nbsp\;
LOCATION:New Bethel Assembly of God 24918 E. 111th St. Broken Arrow
UID:e.1307.377
SEQUENCE:3
DTSTAMP:20260424T235712Z
URL:https://business.cowetachamber.com/events/details/2013-trunk-or-treat-10-30-2013-377
END:VEVENT

END:VCALENDAR
