BEGIN:VCALENDAR
VERSION:2.0
PRODID:-//ChamberMaster//Event Calendar 2.0//EN
METHOD:PUBLISH
X-PUBLISHED-TTL:P3D
REFRESH-INTERVAL:P3D
CALSCALE:GREGORIAN
BEGIN:VEVENT
DTSTART:20131016T213000Z
DTEND:20131016T230000Z
X-MICROSOFT-CDO-ALLDAYEVENT:FALSE
SUMMARY:2013 The Great Pumpkin is Coming!
DESCRIPTION:Coweta First UMC is excited to serve Coweta this year for the community to come and pick out their pumpkin!  The pumpkin patch will be fully open for two weeks\, October 17-31\, Monday thru Saturday Noon-8p\, Sunday 1p-4p.  We'll have a Fall Carnival full of games and activities from 4:30-6pm on October 16 to kick off the pumpkin sales.  During the weekends baked goods will be sold along with a photographer to take children's pictures in the patch.  Tell all your friends to get their pumpkins from Coweta First UMC!
X-ALT-DESC;FMTTYPE=text/html:<div style="color: gray">\n	<span style="color: #000000"><span style="font-size: 10pt"><span style="font-family: arial\, sans-serif">Coweta First UMC is excited to serve Coweta this year for the community to come and pick out their pumpkin! &nbsp\;The pumpkin patch will be fully open for two weeks\, October 17-31\, Monday thru Saturday Noon-8p\, Sunday 1p-4p. &nbsp\;We&#39\;ll have a Fall Carnival full of games and activities from 4:30-6pm on October 16 to kick off the pumpkin sales. &nbsp\;During the weekends baked goods will be sold along with a photographer to take children&#39\;s pictures in the patch. &nbsp\;Tell all your friends to get their pumpkins from Coweta First UMC!</span></span></span><br />\n	&nbsp\;</div>\n
LOCATION:Coweta First United Methodist Church
UID:e.1307.372
SEQUENCE:3
DTSTAMP:20260424T235901Z
URL:https://business.cowetachamber.com/events/details/2013-the-great-pumpkin-is-coming-10-16-2013-372
END:VEVENT

END:VCALENDAR
