BEGIN:VCALENDAR
VERSION:2.0
PRODID:-//ChamberMaster//Event Calendar 2.0//EN
METHOD:PUBLISH
X-PUBLISHED-TTL:P3D
REFRESH-INTERVAL:P3D
CALSCALE:GREGORIAN
BEGIN:VEVENT
DTSTART:20130918T154500Z
DTEND:20130918T180000Z
X-MICROSOFT-CDO-ALLDAYEVENT:FALSE
SUMMARY:2013 September Monthly Meeting
DESCRIPTION:Monthly Coweta Chamber of Commerce Meeting\n\n	\n\n	  JoinJoin Join as we learn the basic use of smart phone operations\, available apps and to use the iPhone and iPad as effective business tools. This workshop will show how this technology can operate to its full capacity. Small business owners may sometimes get overwhelmed keeping up with all their responsibilities\, from everyday tasks to bookkeeping to calendars and schedules. The iPhone and iPad are two very useful business tools that can assist with all of these responsibilities.
X-ALT-DESC;FMTTYPE=text/html:<p>\n	<span style="font-size: 14px">Monthly Coweta Chamber of Commerce Meeting<br />\n	<br />\n	<em><font face="FranklinGothic-Book"><font face="FranklinGothic-Book"><font face="FranklinGothic-Book"><span id="cke_bm_138S" style="display: none">&nbsp\;</span><span id="cke_bm_142S" style="display: none">&nbsp\;JoinJoin</span></font></font></font></em><font face="FranklinGothic-Book"><font face="FranklinGothic-Book"><font face="FranklinGothic-Book"> Join as we learn the basic use of smart phone operations\, available apps and to use the iPhone and iPad as effective business tools. This workshop will show how this technology can operate to its full capacity. Small business owners may sometimes get overwhelmed keeping up with all their responsibilities\, from everyday tasks to bookkeeping to calendars and schedules. The iPhone and iPad are two very useful business tools that can assist with all of these responsibilities.</font></font></font></span></p>\n<p>\n	<span style="font-size: 12px"><font face="FranklinGothic-Book"><font face="FranklinGothic-Book"><font face="FranklinGothic-Book"><span id="cke_bm_138E" style="display: none">&nbsp\;<span id="cke_bm_142E" style="display: none">&nbsp\;</span></span></font></font></font></span></p>\n
LOCATION:Coweta Assembly of God 29707 East State Highway 51 Coweta\, OK 74429
UID:e.1307.80
SEQUENCE:3
DTSTAMP:20260425T014929Z
URL:https://business.cowetachamber.com/events/details/2013-september-monthly-meeting-09-18-2013-80
END:VEVENT

END:VCALENDAR
