BEGIN:VCALENDAR
VERSION:2.0
PRODID:-//ChamberMaster//Event Calendar 2.0//EN
METHOD:PUBLISH
X-PUBLISHED-TTL:P3D
REFRESH-INTERVAL:P3D
CALSCALE:GREGORIAN
BEGIN:VEVENT
DTSTART:20130223T150000Z
DTEND:20130223T220000Z
X-MICROSOFT-CDO-ALLDAYEVENT:FALSE
SUMMARY:2013 Heartsaver CPR/AED/First Aid
DESCRIPTION:* Due to lack of interest\, this event has been canceled. *\n\n\n\nThe Coweta Chamber of Commerce is partnering with Air Evac to provide four health seminars for businesses and residents.\n\n\n\nThis first course is the general public CPR course.  License will be issued.  This is not the health care provider course.
X-ALT-DESC;FMTTYPE=text/html:<br />\n<span style="font-size: 20px"><strong><span style="color: #ff0000">* <u>Due to lack of interest\, this event has been canceled</u>. *</span></strong></span><br />\n<br />\nThe Coweta Chamber of Commerce is partnering with Air Evac to provide four health seminars for businesses and residents.<br />\n<br />\nThis first course is the general public CPR course.&nbsp\; License will be issued.&nbsp\; <strong><em>This is not the health care provider course.</em></strong>
LOCATION:Coweta Chamber of Commerce office 117 W. Cypress St. Coweta\, OK
UID:e.1307.107
SEQUENCE:3
DTSTAMP:20260425T015042Z
URL:https://business.cowetachamber.com/events/details/2013-heartsaver-cpr-aed-first-aid-02-23-2013-107
END:VEVENT

END:VCALENDAR
