BEGIN:VCALENDAR
VERSION:2.0
PRODID:-//ChamberMaster//Event Calendar 2.0//EN
METHOD:PUBLISH
X-PUBLISHED-TTL:P3D
REFRESH-INTERVAL:P3D
CALSCALE:GREGORIAN
BEGIN:VEVENT
DTSTART;VALUE=DATE:20130329
DTEND;VALUE=DATE:20130330
TRANSP:TRANSPARENT
X-MICROSOFT-CDO-ALLDAYEVENT:TRUE
SUMMARY:2013 Good Friday - Coweta Chamber Closed
DESCRIPTION:Office will be closed for Good Friday
X-ALT-DESC;FMTTYPE=text/html:Office will be closed for Good Friday
LOCATION:
UID:e.1307.99
SEQUENCE:3
DTSTAMP:20260425T031155Z
URL:https://business.cowetachamber.com/events/details/2013-good-friday-coweta-chamber-closed-03-29-2013-99
END:VEVENT

END:VCALENDAR
