BEGIN:VCALENDAR
VERSION:2.0
PRODID:-//ChamberMaster//Event Calendar 2.0//EN
METHOD:PUBLISH
X-PUBLISHED-TTL:P3D
REFRESH-INTERVAL:P3D
CALSCALE:GREGORIAN
BEGIN:VEVENT
DTSTART:20130307T141500Z
DTEND:20130307T183000Z
X-MICROSOFT-CDO-ALLDAYEVENT:FALSE
SUMMARY:2013 Entrepenuership 101
DESCRIPTION:This workshop will take you through many steps of business ownership. You will learn the types of business structures and advantages and disadvantages of each\; what permits and licenses are required and how to obtain them\; and reporting procedures for taxes.\n\n	Writing a business plan may seem a monumental task\, but at this workshop you'll learn what goes in a plan\, how to present the plan and how it can help get a business off the ground and growing.\n\n	In addition\, gain insight from experts and learn what lenders think is important in getting small business financing. Discover how to approach a lender\, what is expected of the borrower and what steps need to be done in advance of seeking financing. \n\n	Presenters:\n\n	Dewey Brandon\, OK Tax Commission\n\n	Cal Morris\, Tulsa SCORE\n\n	Sam Vaverka\, REI Oklahoma\n\n	Barbara Rackley\, REI WBC\n\n	Panel of Lenders from Local Banks
X-ALT-DESC;FMTTYPE=text/html:<p align="LEFT">\n	<font face="FranklinGothic-Book" size="4"><font face="FranklinGothic-Book" size="4"><font face="FranklinGothic-Book" size="4">This workshop will take you through many steps of business ownership. You will learn the types of </font></font></font><font face="FranklinGothic-Book" size="4"><font face="FranklinGothic-Book" size="4"><font face="FranklinGothic-Book" size="4">business structures and advantages and disadvantages of each\; what permits and licenses are </font></font></font><font face="FranklinGothic-Book" size="4"><font face="FranklinGothic-Book" size="4"><font face="FranklinGothic-Book" size="4">required and how to obtain them\; and reporting procedures for taxes.</font></font></font></p>\n<p align="LEFT">\n	<font face="FranklinGothic-Book" size="4"><font face="FranklinGothic-Book" size="4"><font face="FranklinGothic-Book" size="4">Writing a business plan may seem a monumental task\, but at this workshop you&rsquo\;ll learn what goes </font></font></font><font face="FranklinGothic-Book" size="4"><font face="FranklinGothic-Book" size="4"><font face="FranklinGothic-Book" size="4">in a plan\, how to present the plan and how it can help get a business off the ground and growing.</font></font></font></p>\n<p align="LEFT">\n	<font face="FranklinGothic-Book" size="4"><font face="FranklinGothic-Book" size="4"><font face="FranklinGothic-Book" size="4">In addition\, gain insight from experts and learn what lenders think is important in getting small </font></font></font><font face="FranklinGothic-Book" size="4"><font face="FranklinGothic-Book" size="4"><font face="FranklinGothic-Book" size="4">business financing. Discover how to approach a lender\, what is expected of the borrower and what </font></font></font><font face="FranklinGothic-Book" size="4"><font face="FranklinGothic-Book" size="4"><font face="FranklinGothic-Book" size="4">steps need to be done in advance of seeking financing. </font></font></font></p>\n<p align="LEFT">\n	<b><i><font color="#2680ff" face="Arial-BoldItalicMT" size="5"><font color="#2680ff" face="Arial-BoldItalicMT" size="5"><font color="#2680ff" face="Arial-BoldItalicMT" size="5">Presenters:</font></font></font></i></b></p>\n<p align="LEFT">\n	<font color="#2680ff" face="ArialMT"><font color="#2680ff" face="ArialMT">Dewey Brandon\, OK Tax Commission</font></font></p>\n<p align="LEFT">\n	<font color="#2680ff" face="ArialMT"><font color="#2680ff" face="ArialMT">Cal Morris\, Tulsa SCORE</font></font></p>\n<p align="LEFT">\n	<font color="#2680ff" face="ArialMT"><font color="#2680ff" face="ArialMT">Sam Vaverka\, REI Oklahoma</font></font></p>\n<p align="LEFT">\n	<font color="#2680ff" face="ArialMT"><font color="#2680ff" face="ArialMT">Barbara Rackley\, REI WBC</font></font></p>\n<p>\n	<font color="#2680ff" face="ArialMT"><font color="#2680ff" face="ArialMT">Panel of Lenders from Local Banks</font></font></p>\n<p align="LEFT">\n	<br />\n	&nbsp\;</p>\n
LOCATION:Wagoner Civic Center 301 S. Grant Avenue Wagoner\, OK
UID:e.1307.117
SEQUENCE:3
DTSTAMP:20260425T031124Z
URL:https://business.cowetachamber.com/events/details/2013-entrepenuership-101-03-07-2013-117
END:VEVENT

END:VCALENDAR
