BEGIN:VCALENDAR
VERSION:2.0
PRODID:-//ChamberMaster//Event Calendar 2.0//EN
METHOD:PUBLISH
X-PUBLISHED-TTL:P3D
REFRESH-INTERVAL:P3D
CALSCALE:GREGORIAN
BEGIN:VEVENT
DTSTART:20130301T000000Z
DTEND:20130301T020000Z
X-MICROSOFT-CDO-ALLDAYEVENT:FALSE
SUMMARY:2013 Creative Fund Raising for Your Community
DESCRIPTION:ATTENTION NONPROFITS\n\n	\n\n	Northeast Oklahoma Regional Alliance presents:\n\n	\n		How to Develop a Community Foundation\n	\n		How to Organize and Implement a Centralized Faith Based Community to Get Grant Funds\n	\n		Grant Writing 101
X-ALT-DESC;FMTTYPE=text/html:<p style="text-align: center">\n	<span style="font-size: 16px"><strong><u>ATTENTION NONPROFITS</u></strong></span></p>\n<p style="text-align: center">\n	<br />\n	Northeast Oklahoma Regional Alliance presents:</p>\n<ul>\n	<li>\n		How to Develop a Community Foundation</li>\n	<li>\n		How to Organize and Implement a Centralized Faith Based Community to Get Grant Funds</li>\n	<li>\n		Grant Writing 101</li>\n</ul>\n
LOCATION:Coweta Chamber of Commerce office 117 W. Cypress Street Coweta\, OK
UID:e.1307.111
SEQUENCE:3
DTSTAMP:20260425T014915Z
URL:https://business.cowetachamber.com/events/details/2013-creative-fund-raising-for-your-community-02-28-2013-111
END:VEVENT

END:VCALENDAR
