BEGIN:VCALENDAR
VERSION:2.0
PRODID:-//ChamberMaster//Event Calendar 2.0//EN
METHOD:PUBLISH
X-PUBLISHED-TTL:P3D
REFRESH-INTERVAL:P3D
CALSCALE:GREGORIAN
BEGIN:VEVENT
DTSTART:20120830T131500Z
DTEND:20120830T170000Z
X-MICROSOFT-CDO-ALLDAYEVENT:FALSE
SUMMARY:2012 Social Media Boot Camp
DESCRIPTION:Does your business need a jumpstart when it comes to using social media as a marketing tool? If so\, then this workshop is for you. Our training program\, Social Media Bootcamp\, is a 4 hour program intended to be a resource to help newcomers learn and veterans to stay current about the latest social media tools and techniques.
X-ALT-DESC;FMTTYPE=text/html:Does your business need a jumpstart <em>when it comes to using social media as a marketing tool? </em>If so\, then this workshop is for you. Our training program\, <em>Social Media Bootcamp\,</em> is a 4 hour program intended to be a resource to help newcomers learn and veterans to stay current about the latest social media tools and techniques.
LOCATION:Chamber Offices - 117 W. Cypress\, Coweta\, OK
UID:e.1307.33
SEQUENCE:3
DTSTAMP:20260424T161756Z
URL:https://business.cowetachamber.com/events/details/2012-social-media-boot-camp-08-30-2012-33
END:VEVENT

END:VCALENDAR
