BEGIN:VCALENDAR
VERSION:2.0
PRODID:-//ChamberMaster//Event Calendar 2.0//EN
METHOD:PUBLISH
X-PUBLISHED-TTL:P3D
REFRESH-INTERVAL:P3D
CALSCALE:GREGORIAN
BEGIN:VEVENT
DTSTART:20121121T133000Z
DTEND:20121121T143000Z
X-MICROSOFT-CDO-ALLDAYEVENT:FALSE
SUMMARY:2012 November Monthly Meeting
DESCRIPTION:November Monthly Membership Meeting\n\n\n\nTopic: Ideas for Employee Retention and Top 10 Reasons to Hire a Veteran.  \n\n\n\nSpeaker:  Ryan Davis\, Oklahoma Employment Security Commission-Muskogee\n\n\n\nThis discussion will include ways to cultivate your current employees and combat some typical employer issues and the Top 10 Reasons to hire veteran including incentives that may be out there for you\, the employer.\n\n\n\nBreakfast will be provided.
X-ALT-DESC;FMTTYPE=text/html:November Monthly Membership Meeting<br />\n<br />\nTopic:&nbsp\;Ideas for Employee Retention and Top 10 Reasons to Hire a Veteran.&nbsp\;&nbsp\;<br />\n<br />\nSpeaker:&nbsp\; Ryan Davis\, Oklahoma Employment Security Commission-Muskogee<br />\n<br />\nThis discussion will include ways to cultivate your current employees and combat some typical employer issues and the Top 10 Reasons to hire veteran including incentives that may be out there for you\, the employer.<br />\n<br />\nBreakfast will be provided.
LOCATION:Coweta Assembly of God church (located off Hwy 51\, just west of the Coweta Football Stadium. The physical address is: 29707 E. Hwy 51\, Coweta\, OK 74429.)
UID:e.1307.66
SEQUENCE:3
DTSTAMP:20260424T210709Z
URL:https://business.cowetachamber.com/events/details/2012-november-monthly-meeting-11-21-2012-66
END:VEVENT

END:VCALENDAR
