BEGIN:VCALENDAR
VERSION:2.0
PRODID:-//ChamberMaster//Event Calendar 2.0//EN
METHOD:PUBLISH
X-PUBLISHED-TTL:P3D
REFRESH-INTERVAL:P3D
CALSCALE:GREGORIAN
BEGIN:VEVENT
DTSTART:20121219T174500Z
DTEND:20121219T190000Z
X-MICROSOFT-CDO-ALLDAYEVENT:FALSE
SUMMARY:2012 December Monthly Meeting
DESCRIPTION:Monthly Coweta Chamber of Commerce Meeting\n\n	 \n\n	Topic/Speaker: Darla Heller with the Wagoner County Economic Development Authority and Steven Whitlock\, Coweta City Manager will present a study they commissioned by The Retail Coach about retail development in Coweta. Heller will present our primary trade area\, demographic and psychographic profiles\, and detailed data about the $93 MM retail leakage in Coweta.
X-ALT-DESC;FMTTYPE=text/html:<p>\n	Monthly Coweta Chamber of Commerce Meeting<br />\n	&nbsp\;</p>\n<div>\n	<em>Topic/Speaker: Darla Heller with the Wagoner County Economic Development Authority and Steven Whitlock\, Coweta City Manager will present a study they commissioned by The Retail Coach about retail development in Coweta. Heller will present our primary trade area\, demographic and psychographic profiles\, and detailed data about the $93 MM retail leakage in Coweta.</em></div>\n
LOCATION:Coweta Assembly of God 29707 East State Highway 51 Coweta\, OK 74429
UID:e.1307.70
SEQUENCE:3
DTSTAMP:20260424T222645Z
URL:https://business.cowetachamber.com/events/details/2012-december-monthly-meeting-12-19-2012-70
END:VEVENT

END:VCALENDAR
