BEGIN:VCALENDAR
VERSION:2.0
PRODID:-//ChamberMaster//Event Calendar 2.0//EN
METHOD:PUBLISH
X-PUBLISHED-TTL:P3D
REFRESH-INTERVAL:P3D
CALSCALE:GREGORIAN
BEGIN:VEVENT
DTSTART:20120904T140000Z
DTEND:20120904T220000Z
X-MICROSOFT-CDO-ALLDAYEVENT:FALSE
SUMMARY:2012 Coweta's Got Talent Form Due Date
DESCRIPTION:Coweta's Got Talent forms are due.  Please have the application and the CD copy of your accompany to Sarah Wall or Hollie Stout at the Farm Bureau office.
X-ALT-DESC;FMTTYPE=text/html:Coweta&#39\;s Got Talent forms are due.&nbsp\; Please have the application and the CD copy of your accompany to Sarah Wall or Hollie Stout at the Farm Bureau office.
LOCATION:
UID:e.1307.41
SEQUENCE:3
DTSTAMP:20260424T180043Z
URL:https://business.cowetachamber.com/events/details/2012-coweta-s-got-talent-form-due-date-09-04-2012-41
END:VEVENT

END:VCALENDAR
