BEGIN:VCALENDAR
VERSION:2.0
PRODID:-//ChamberMaster//Event Calendar 2.0//EN
METHOD:PUBLISH
X-PUBLISHED-TTL:P3D
REFRESH-INTERVAL:P3D
CALSCALE:GREGORIAN
BEGIN:VEVENT
DTSTART:20120913T220000Z
DTEND:20120916T045500Z
X-MICROSOFT-CDO-ALLDAYEVENT:FALSE
SUMMARY:2012 Coweta Fall Festival
DESCRIPTION:Coweta Fall Festival will be on Broadway beginning Thursday\, September 13\, 2012 thru Saturday September 15\, 2012 ending at 12:00 midnight.
X-ALT-DESC;FMTTYPE=text/html:Coweta Fall Festival will be on Broadway beginning Thursday\, September 13\, 2012 thru Saturday September 15\, 2012 ending at 12:00 midnight.
LOCATION:on Broadway (main street) between Chestnut and Pecan St.
UID:e.1307.37
SEQUENCE:3
DTSTAMP:20260424T180033Z
URL:https://business.cowetachamber.com/events/details/2012-coweta-fall-festival-09-13-2012-37
END:VEVENT

END:VCALENDAR
