BEGIN:VCALENDAR
VERSION:2.0
PRODID:-//ChamberMaster//Event Calendar 2.0//EN
METHOD:PUBLISH
X-PUBLISHED-TTL:P3D
REFRESH-INTERVAL:P3D
CALSCALE:GREGORIAN
BEGIN:VEVENT
DTSTART:20121208T163000Z
DTEND:20121208T180000Z
X-MICROSOFT-CDO-ALLDAYEVENT:FALSE
SUMMARY:2012 Coweta Christmas Celebration and Parade
DESCRIPTION:Coweta Christmas Celebration and Parade\n\n\n\nParade theme is Santa's Toyland. Application available by email only at this time\, info@cowetachamber.com. Parade will start at 11:00am. No entry fee. Rolling Thunder Toy Run will kick off the parade.   Best Non-Profit and Best Business Entry receive a plaque and $100 prize.\n\n\n\nCoweta Firefighters Auxiliary will also be hosting their annual chili dinner and silent auction fundraiser at the Coweta Fire Station from 10:30am until 2pm.  Santa will be at the firestation to meet and greet children of all ages after the parade.
X-ALT-DESC;FMTTYPE=text/html:<u><strong>Coweta Christmas Celebration and Parade</strong></u><br />\n<br />\nParade theme is Santa&#39\;s Toyland. Application available by email only at this time\, <a href="mailto:info@cowetachamber.com">info@cowetachamber.com</a>. Parade will start at 11:00am. No entry fee. Rolling Thunder Toy Run will kick off the parade.&nbsp\;&nbsp\; <span style="font-size: 12px"><span style="font-family: arial"><span style="mso-bidi-font-size: 14.0pt\; mso-fareast-font-family: 'arial unicode ms'\; mso-bidi-font-family: aharoni"><font color="#000000">Best Non-Profit and Best Business Entry </font></span></span></span><span style="font-size: 12px"><span style="font-family: arial"><span style="mso-bidi-font-size: 14.0pt\; mso-fareast-font-family: 'arial unicode ms'\; mso-bidi-font-family: aharoni"><font color="#000000">receive a plaque and $100 prize.</font></span></span></span><span style="font-family: 'arial black'\, 'sans-serif'\; font-size: 18pt\; mso-bidi-font-size: 14.0pt\; mso-fareast-font-family: 'arial unicode ms'\; mso-bidi-font-family: aharoni"><font color="#000000"><o:p></o:p></font></span><br />\n<br />\nCoweta Firefighters Auxiliary will also be hosting their annual chili dinner and silent auction fundraiser at the Coweta Fire Station from 10:30am until 2pm.&nbsp\; Santa will be at the firestation to meet and greet&nbsp\;children of all ages after the parade.
LOCATION:Downtown Coweta on Broadway
UID:e.1307.67
SEQUENCE:3
DTSTAMP:20260424T222718Z
URL:https://business.cowetachamber.com/events/details/2012-coweta-christmas-celebration-and-parade-12-08-2012-67
END:VEVENT

END:VCALENDAR
