BEGIN:VCALENDAR
VERSION:2.0
PRODID:-//ChamberMaster//Event Calendar 2.0//EN
METHOD:PUBLISH
X-PUBLISHED-TTL:P3D
REFRESH-INTERVAL:P3D
CALSCALE:GREGORIAN
BEGIN:VEVENT
DTSTART:20121010T170000Z
DTEND:20121010T183000Z
X-MICROSOFT-CDO-ALLDAYEVENT:FALSE
SUMMARY:2012 Candidate Forum - Wagoner County General Election
DESCRIPTION:2012 General Election Candidate Forum\n\n	\n\n	Each candidate will have five minutes to introduce themselves and speak on relevant issues.  There will be no official Q&A.  There will be ample time for individuals to visit with candidates individually following the program.  Additionally tables will be provided with campaign material.
X-ALT-DESC;FMTTYPE=text/html:<p class="MsoNormal" style="margin: 0in 0in 0pt">\n	<b><span style="font-size: 16pt"><font color="#000000">2012 General Election Candidate Forum<o:p></o:p></font></span></b></p>\n<p class="MsoNormal" style="margin: 0in 0in 0pt">\n	<span style="font-size: 14pt"><o:p></o:p></span></p>\n<p class="MsoNormal" style="margin: 0in 0in 0pt">\n	<span style="font-size: 14pt"><font color="#000000">Each candidate will have five minutes to introduce themselves and speak on relevant issues.&nbsp\; There will be no official Q&amp\;A.&nbsp\; There will be ample time for individuals to visit with candidates individually following the program.&nbsp\; Additionally tables will be provided with campaign material.&nbsp\;<span _fck_bookmark="1" style="display: none">&nbsp\;</span></font></span><o:p></o:p></p>\n
LOCATION:Assembly of God Church\, Coweta OK (located off HWY 51\, just west of the Coweta Football Stadium. The physical address is: 29707 E. Hwy 51\, Coweta\, OK 74429)
UID:e.1307.56
SEQUENCE:3
DTSTAMP:20260424T193641Z
URL:https://business.cowetachamber.com/events/details/2012-candidate-forum-wagoner-county-general-election-10-10-2012-56
END:VEVENT

END:VCALENDAR
